BEGIN:VCALENDAR
VERSION:2.0
PRODID:-//Nuovo Aspetto - ECPv6.11.2.1//NONSGML v1.0//EN
CALSCALE:GREGORIAN
METHOD:PUBLISH
X-ORIGINAL-URL:https://nuovoaspetto.de
X-WR-CALDESC:Veranstaltungen für Nuovo Aspetto
REFRESH-INTERVAL;VALUE=DURATION:PT1H
X-Robots-Tag:noindex
X-PUBLISHED-TTL:PT1H
BEGIN:VTIMEZONE
TZID:Europe/Berlin
BEGIN:DAYLIGHT
TZOFFSETFROM:+0100
TZOFFSETTO:+0200
TZNAME:CEST
DTSTART:20250330T010000
END:DAYLIGHT
BEGIN:STANDARD
TZOFFSETFROM:+0200
TZOFFSETTO:+0100
TZNAME:CET
DTSTART:20251026T010000
END:STANDARD
END:VTIMEZONE
BEGIN:VEVENT
DTSTART;TZID=Europe/Berlin:20251214T163000
DTEND;TZID=Europe/Berlin:20251214T235900
DTSTAMP:20260421T233138
CREATED:20250310T192550Z
LAST-MODIFIED:20250719T184355Z
UID:738-1765729800-1765756740@nuovoaspetto.de
SUMMARY:„Playgrounds“ mit Stefan Themmingh
DESCRIPTION:Werke von Finger\, Geminiani\, Lully u. a.
URL:https://nuovoaspetto.de/event/playgrounds-mit-stefan-themmingh-2/
LOCATION:Tonhalle Düsseldorf\, Ehrenhof 1\, Düsseldorf\, Nordrhein-Westfalen\, 40479\, Germany
ATTACH;FMTTYPE=image/jpeg:https://nuovoaspetto.de/wp-content/uploads/2025/07/Bild8-scaled-e1752950262948.jpg
END:VEVENT
END:VCALENDAR