BEGIN:VCALENDAR
VERSION:2.0
PRODID:-//Nuovo Aspetto - ECPv6.11.2.1//NONSGML v1.0//EN
CALSCALE:GREGORIAN
METHOD:PUBLISH
X-ORIGINAL-URL:https://nuovoaspetto.de
X-WR-CALDESC:Veranstaltungen für Nuovo Aspetto
REFRESH-INTERVAL;VALUE=DURATION:PT1H
X-Robots-Tag:noindex
X-PUBLISHED-TTL:PT1H
BEGIN:VTIMEZONE
TZID:Europe/Berlin
BEGIN:DAYLIGHT
TZOFFSETFROM:+0100
TZOFFSETTO:+0200
TZNAME:CEST
DTSTART:20250330T010000
END:DAYLIGHT
BEGIN:STANDARD
TZOFFSETFROM:+0200
TZOFFSETTO:+0100
TZNAME:CET
DTSTART:20251026T010000
END:STANDARD
END:VTIMEZONE
BEGIN:VEVENT
DTSTART;VALUE=DATE:20251031
DTEND;VALUE=DATE:20251101
DTSTAMP:20260422T033140
CREATED:20250313T130955Z
LAST-MODIFIED:20250719T184029Z
UID:763-1761868800-1761955199@nuovoaspetto.de
SUMMARY:„Playgrounds“ mit Stefan Themmingh
DESCRIPTION:Werke von Finger\, Geminiani\, Lully u. a.
URL:https://nuovoaspetto.de/event/playgrounds-mit-stefan-themmingh-3/
LOCATION:Pierre Boulez Saal Berlin\, Französische Straße 33d\, Berlin\, 10117\, Germany
ATTACH;FMTTYPE=image/jpeg:https://nuovoaspetto.de/wp-content/uploads/2025/07/Bild8-scaled-e1752950262948.jpg
ORGANIZER;CN="Barenboim-Said-Akademie":MAILTO:info@boulezsaal.de
END:VEVENT
END:VCALENDAR