BEGIN:VCALENDAR
VERSION:2.0
PRODID:-//Nuovo Aspetto - ECPv6.11.2.1//NONSGML v1.0//EN
CALSCALE:GREGORIAN
METHOD:PUBLISH
X-ORIGINAL-URL:https://nuovoaspetto.de
X-WR-CALDESC:Veranstaltungen für Nuovo Aspetto
REFRESH-INTERVAL;VALUE=DURATION:PT1H
X-Robots-Tag:noindex
X-PUBLISHED-TTL:PT1H
BEGIN:VTIMEZONE
TZID:Europe/Paris
BEGIN:DAYLIGHT
TZOFFSETFROM:+0100
TZOFFSETTO:+0200
TZNAME:CEST
DTSTART:20250330T010000
END:DAYLIGHT
BEGIN:STANDARD
TZOFFSETFROM:+0200
TZOFFSETTO:+0100
TZNAME:CET
DTSTART:20251026T010000
END:STANDARD
END:VTIMEZONE
BEGIN:VEVENT
DTSTART;TZID=Europe/Paris:20250614T200000
DTEND;TZID=Europe/Paris:20250614T235900
DTSTAMP:20260422T103122
CREATED:20250310T185147Z
LAST-MODIFIED:20250310T185420Z
UID:720-1749931200-1749945540@nuovoaspetto.de
SUMMARY:„Il gondoliere veneziano“ mit Holger Falk
DESCRIPTION:
URL:https://nuovoaspetto.de/event/il-gondoliere-veneziano-mit-holger-falk-4/
LOCATION:Schloss Brühl\, Schlosspark\, Brühl\, Nordrhein-Westfalen\, 50321\, Germany
ATTACH;FMTTYPE=image/jpeg:https://nuovoaspetto.de/wp-content/uploads/2022/03/Nuovo_Aspetto_Venedig.jpg
END:VEVENT
BEGIN:VEVENT
DTSTART;TZID=Europe/Paris:20250615T200000
DTEND;TZID=Europe/Paris:20250615T235900
DTSTAMP:20260422T103122
CREATED:20250310T185247Z
LAST-MODIFIED:20250310T185546Z
UID:725-1750017600-1750031940@nuovoaspetto.de
SUMMARY:„Il gondoliere veneziano“ mit Holger Falk
DESCRIPTION:
URL:https://nuovoaspetto.de/event/il-gondoliere-veneziano-mit-holger-falk-5/
LOCATION:Schloss Brühl\, Schlosspark\, Brühl\, Nordrhein-Westfalen\, 50321\, Germany
ATTACH;FMTTYPE=image/jpeg:https://nuovoaspetto.de/wp-content/uploads/2022/03/Nuovo_Aspetto_Venedig.jpg
END:VEVENT
END:VCALENDAR